BEGIN:VCALENDAR
VERSION:2.0
PRODID:-//Tambourkorps Schloß Neuhaus//Kalender//DE
CALSCALE:GREGORIAN
METHOD:PUBLISH
X-WR-CALNAME:Tambourkorps Schloß Neuhaus 2026
X-WR-TIMEZONE:Europe/Berlin
X-WR-CALDESC:Terminkalender des Tambourkorps Schloß Neuhaus 1912
BEGIN:VEVENT
UID:termin-478@tambourkorps-schloss-neuhaus.de
DTSTAMP:20260422T102225Z
DTSTART;VALUE=DATE:20260116
DTEND;VALUE=DATE:20260117
SUMMARY:Jahreshauptversammlung Hatzfelder-Kompanie
LOCATION:Waldhotel Nachtigall
END:VEVENT
BEGIN:VEVENT
UID:termin-479@tambourkorps-schloss-neuhaus.de
DTSTAMP:20260422T102225Z
DTSTART;VALUE=DATE:20260117
DTEND;VALUE=DATE:20260118
SUMMARY:Jahreshauptversammlung Schloß-Kompanie
LOCATION:Waldhotel Nachtigall
END:VEVENT
BEGIN:VEVENT
UID:termin-480@tambourkorps-schloss-neuhaus.de
DTSTAMP:20260422T102225Z
DTSTART;VALUE=DATE:20260123
DTEND;VALUE=DATE:20260124
SUMMARY:Jahreshauptversammlung Tambourkorps
LOCATION:Feuerwehrgerätehaus
END:VEVENT
BEGIN:VEVENT
UID:termin-481@tambourkorps-schloss-neuhaus.de
DTSTAMP:20260422T102225Z
DTSTART;VALUE=DATE:20260130
DTEND;VALUE=DATE:20260131
SUMMARY:Kolping Karneval
LOCATION:Pfarrheim Mastbruch
END:VEVENT
BEGIN:VEVENT
UID:termin-482@tambourkorps-schloss-neuhaus.de
DTSTAMP:20260422T102225Z
DTSTART;VALUE=DATE:20260131
DTEND;VALUE=DATE:20260201
SUMMARY:Kolping Karneval
LOCATION:Pfarrheim Mastbruch
END:VEVENT
BEGIN:VEVENT
UID:termin-483@tambourkorps-schloss-neuhaus.de
DTSTAMP:20260422T102225Z
DTSTART;VALUE=DATE:20260206
DTEND;VALUE=DATE:20260207
SUMMARY:Keine Probe
END:VEVENT
BEGIN:VEVENT
UID:termin-484@tambourkorps-schloss-neuhaus.de
DTSTAMP:20260422T102225Z
DTSTART;VALUE=DATE:20260227
DTEND;VALUE=DATE:20260228
SUMMARY:Pokalschießen
LOCATION:Schießkeller im Schloss
END:VEVENT
BEGIN:VEVENT
UID:termin-485@tambourkorps-schloss-neuhaus.de
DTSTAMP:20260422T102225Z
DTSTART;VALUE=DATE:20260314
DTEND;VALUE=DATE:20260315
SUMMARY:Bataillonsversammlung
LOCATION:Schlosshalle
END:VEVENT
BEGIN:VEVENT
UID:termin-486@tambourkorps-schloss-neuhaus.de
DTSTAMP:20260422T102225Z
DTSTART;VALUE=DATE:20260514
DTEND;VALUE=DATE:20260515
SUMMARY:Vatertag
END:VEVENT
BEGIN:VEVENT
UID:termin-487@tambourkorps-schloss-neuhaus.de
DTSTAMP:20260422T102225Z
DTSTART;VALUE=DATE:20260531
DTEND;VALUE=DATE:20260601
SUMMARY:Schützenfest Sennelager
LOCATION:Kirchplatz St. Michael
END:VEVENT
BEGIN:VEVENT
UID:termin-488@tambourkorps-schloss-neuhaus.de
DTSTAMP:20260422T102225Z
DTSTART;VALUE=DATE:20260605
DTEND;VALUE=DATE:20260606
SUMMARY:Biwak Hatzfelder-Kompanie
LOCATION:Ecke Thuner Weg & Mastbruchstraße
END:VEVENT
BEGIN:VEVENT
UID:termin-494@tambourkorps-schloss-neuhaus.de
DTSTAMP:20260422T102225Z
DTSTART;VALUE=DATE:20260606
DTEND;VALUE=DATE:20260607
SUMMARY:Schützenfest Schloß Neuhaus – Samstag
END:VEVENT
BEGIN:VEVENT
UID:termin-495@tambourkorps-schloss-neuhaus.de
DTSTAMP:20260422T102225Z
DTSTART;VALUE=DATE:20260607
DTEND;VALUE=DATE:20260608
SUMMARY:Schützenfest Schloß Neuhaus – Sonntag
END:VEVENT
BEGIN:VEVENT
UID:termin-496@tambourkorps-schloss-neuhaus.de
DTSTAMP:20260422T102225Z
DTSTART;VALUE=DATE:20260608
DTEND;VALUE=DATE:20260609
SUMMARY:Schützenfest Schloß Neuhaus – Montag
END:VEVENT
BEGIN:VEVENT
UID:termin-501@tambourkorps-schloss-neuhaus.de
DTSTAMP:20260422T102225Z
DTSTART;VALUE=DATE:20260612
DTEND;VALUE=DATE:20260613
SUMMARY:Manöverkritik
LOCATION:Feuerwehrgerätehaus
END:VEVENT
BEGIN:VEVENT
UID:termin-502@tambourkorps-schloss-neuhaus.de
DTSTAMP:20260422T102225Z
DTSTART;VALUE=DATE:20260613
DTEND;VALUE=DATE:20260614
SUMMARY:Schützenfest Buke
LOCATION:Route folgt
END:VEVENT
BEGIN:VEVENT
UID:termin-503@tambourkorps-schloss-neuhaus.de
DTSTAMP:20260422T102225Z
DTSTART;VALUE=DATE:20260705
DTEND;VALUE=DATE:20260706
SUMMARY:Schützenfest Dahl – 40 Jahre
LOCATION:Route folgt
END:VEVENT
BEGIN:VEVENT
UID:termin-504@tambourkorps-schloss-neuhaus.de
DTSTAMP:20260422T102225Z
DTSTART;VALUE=DATE:20260711
DTEND;VALUE=DATE:20260712
SUMMARY:Schützenfest Paderborn – Samstag
END:VEVENT
BEGIN:VEVENT
UID:termin-505@tambourkorps-schloss-neuhaus.de
DTSTAMP:20260422T102225Z
DTSTART;VALUE=DATE:20260712
DTEND;VALUE=DATE:20260713
SUMMARY:Schützenfest Paderborn – Sonntag
END:VEVENT
BEGIN:VEVENT
UID:termin-506@tambourkorps-schloss-neuhaus.de
DTSTAMP:20260422T102225Z
DTSTART;VALUE=DATE:20260713
DTEND;VALUE=DATE:20260714
SUMMARY:Schützenfest Paderborn – Montag
END:VEVENT
BEGIN:VEVENT
UID:termin-532@tambourkorps-schloss-neuhaus.de
DTSTAMP:20260422T102225Z
DTSTART;VALUE=DATE:20260718
DTEND;VALUE=DATE:20260719
SUMMARY:Heinrichsfeier
LOCATION:Kirchplatz St. Heinrich & Kunigunde
END:VEVENT
BEGIN:VEVENT
UID:termin-507@tambourkorps-schloss-neuhaus.de
DTSTAMP:20260422T102225Z
DTSTART;VALUE=DATE:20260725
DTEND;VALUE=DATE:20260726
SUMMARY:Liboritreffen
END:VEVENT
BEGIN:VEVENT
UID:termin-508@tambourkorps-schloss-neuhaus.de
DTSTAMP:20260422T102225Z
DTSTART;VALUE=DATE:20260904
DTEND;VALUE=DATE:20260905
SUMMARY:1. Probe nach der Sommerpause
LOCATION:Feuerwehrgerätehaus
END:VEVENT
BEGIN:VEVENT
UID:termin-541@tambourkorps-schloss-neuhaus.de
DTSTAMP:20260422T102225Z
DTSTART;VALUE=DATE:20260913
DTEND;VALUE=DATE:20260914
SUMMARY:Bundesfest in Damme
END:VEVENT
BEGIN:VEVENT
UID:termin-539@tambourkorps-schloss-neuhaus.de
DTSTAMP:20260422T102225Z
DTSTART;VALUE=DATE:20261016
DTEND;VALUE=DATE:20261017
SUMMARY:Probewochenende – Freitag
LOCATION:Feuerwehrgerätehaus
END:VEVENT
BEGIN:VEVENT
UID:termin-540@tambourkorps-schloss-neuhaus.de
DTSTAMP:20260422T102225Z
DTSTART;VALUE=DATE:20261017
DTEND;VALUE=DATE:20261018
SUMMARY:Probewochenende – Samstag
LOCATION:Feuerwehrgerätehaus
END:VEVENT
BEGIN:VEVENT
UID:termin-533@tambourkorps-schloss-neuhaus.de
DTSTAMP:20260422T102225Z
DTSTART;VALUE=DATE:20261024
DTEND;VALUE=DATE:20261025
SUMMARY:Königsabend
LOCATION:Schlosshalle
END:VEVENT
BEGIN:VEVENT
UID:termin-534@tambourkorps-schloss-neuhaus.de
DTSTAMP:20260422T102225Z
DTSTART;VALUE=DATE:20261108
DTEND;VALUE=DATE:20261109
SUMMARY:Martinszug
LOCATION:Kirchplatz
END:VEVENT
BEGIN:VEVENT
UID:termin-535@tambourkorps-schloss-neuhaus.de
DTSTAMP:20260422T102225Z
DTSTART;VALUE=DATE:20261114
DTEND;VALUE=DATE:20261115
SUMMARY:Kolping-Karneval: Proklamation Dreigestirn
LOCATION:Kirchplatz St. Heinrich & Kunigunde
END:VEVENT
BEGIN:VEVENT
UID:termin-509@tambourkorps-schloss-neuhaus.de
DTSTAMP:20260422T102225Z
DTSTART;VALUE=DATE:20261115
DTEND;VALUE=DATE:20261116
SUMMARY:Volkstrauertag
LOCATION:Schlossinnenhof
END:VEVENT
END:VCALENDAR
